BEGIN:VCALENDAR
VERSION:2.0
PRODID:-//Reclaim Your Future, AZ Marijuana Expungement Coalition - ECPv6.15.11//NONSGML v1.0//EN
CALSCALE:GREGORIAN
METHOD:PUBLISH
X-WR-CALNAME:Reclaim Your Future, AZ Marijuana Expungement Coalition
X-ORIGINAL-URL:https://azexpunge.org/nv
X-WR-CALDESC:Events for Reclaim Your Future, AZ Marijuana Expungement Coalition
REFRESH-INTERVAL;VALUE=DURATION:PT1H
X-Robots-Tag:noindex
X-PUBLISHED-TTL:PT1H
BEGIN:VTIMEZONE
TZID:America/Denver
BEGIN:DAYLIGHT
TZOFFSETFROM:-0700
TZOFFSETTO:-0600
TZNAME:MDT
DTSTART:20240310T090000
END:DAYLIGHT
BEGIN:STANDARD
TZOFFSETFROM:-0600
TZOFFSETTO:-0700
TZNAME:MST
DTSTART:20241103T080000
END:STANDARD
BEGIN:DAYLIGHT
TZOFFSETFROM:-0700
TZOFFSETTO:-0600
TZNAME:MDT
DTSTART:20250309T090000
END:DAYLIGHT
BEGIN:STANDARD
TZOFFSETFROM:-0600
TZOFFSETTO:-0700
TZNAME:MST
DTSTART:20251102T080000
END:STANDARD
BEGIN:DAYLIGHT
TZOFFSETFROM:-0700
TZOFFSETTO:-0600
TZNAME:MDT
DTSTART:20260308T090000
END:DAYLIGHT
BEGIN:STANDARD
TZOFFSETFROM:-0600
TZOFFSETTO:-0700
TZNAME:MST
DTSTART:20261101T080000
END:STANDARD
END:VTIMEZONE
BEGIN:VEVENT
DTSTART;TZID=America/Denver:20251204T110000
DTEND;TZID=America/Denver:20251204T140000
DTSTAMP:20260424T162503
CREATED:20251007T180421Z
LAST-MODIFIED:20251007T180421Z
UID:3614-1764846000-1764856800@azexpunge.org
SUMMARY:Phoenix Job Fair
DESCRIPTION:Meet top employers\, explore exciting career opportunities\, and network with industry leaders at the Phoenix Job Fair! \nVisit the Reclaim Your Future booth to learn more about expunging your marijuana-related conviction or arrest records. Qualified attorneys will help confirm your eligibility and prepare your expungement petition.
URL:https://azexpunge.org/nv/legal-clinic/phoenix-job-fair-12-04-25/
LOCATION:Double Tree by Hilton Phoenix North\, 10220 N Metro Pkwy E\, Phoenix\, AZ\, 85051\, United States
CATEGORIES:Table/Booth
END:VEVENT
END:VCALENDAR